BEGIN:VCALENDAR
VERSION:2.0
PRODID:-//Learn OmniFocus - ECPv6.15.18//NONSGML v1.0//EN
CALSCALE:GREGORIAN
METHOD:PUBLISH
X-ORIGINAL-URL:https://learnomnifocus.com
X-WR-CALDESC:Events for Learn OmniFocus
REFRESH-INTERVAL;VALUE=DURATION:PT1H
X-Robots-Tag:noindex
X-PUBLISHED-TTL:PT1H
BEGIN:VTIMEZONE
TZID:America/Vancouver
BEGIN:DAYLIGHT
TZOFFSETFROM:-0800
TZOFFSETTO:-0700
TZNAME:PDT
DTSTART:20190310T100000
END:DAYLIGHT
BEGIN:STANDARD
TZOFFSETFROM:-0700
TZOFFSETTO:-0800
TZNAME:PST
DTSTART:20191103T090000
END:STANDARD
BEGIN:DAYLIGHT
TZOFFSETFROM:-0800
TZOFFSETTO:-0700
TZNAME:PDT
DTSTART:20200308T100000
END:DAYLIGHT
BEGIN:STANDARD
TZOFFSETFROM:-0700
TZOFFSETTO:-0800
TZNAME:PST
DTSTART:20201101T090000
END:STANDARD
BEGIN:DAYLIGHT
TZOFFSETFROM:-0800
TZOFFSETTO:-0700
TZNAME:PDT
DTSTART:20210314T100000
END:DAYLIGHT
BEGIN:STANDARD
TZOFFSETFROM:-0700
TZOFFSETTO:-0800
TZNAME:PST
DTSTART:20211107T090000
END:STANDARD
END:VTIMEZONE
BEGIN:VEVENT
DTSTART;TZID=America/Vancouver:20200818T100000
DTEND;TZID=America/Vancouver:20200818T110000
DTSTAMP:20260423T195456
CREATED:20200714T220357Z
LAST-MODIFIED:20200714T220357Z
UID:10000393-1597744800-1597748400@learnomnifocus.com
SUMMARY:Automating OmniFocus with Omni Automation: Fundamentals
DESCRIPTION:Omni Automation is a technology that allows you to add functionality to OmniFocus on iPhone\, iPad\, and Mac using “plug-ins”. This technology is also supported by Omni’s other apps and can be a helpful way to create a bridge between OmniFocus and OmniOutliner\, OmniGraffle\, and OmniPlan.\n \nEveryone is welcome. No previous Omni Automation experience is required.\nThis session will help you tap into Omni Automation’s power by making use of existing OmniFocus plug-ins\, including those that are shared on the Omni Automation website. This session doesn’t assume any previous knowledge of Omni Automation and doesn’t require any programming skills. \nPlease Note: OmniFocus Pro is required to use Omni Automation on Mac\, iPhone\, and iPad. \nOverview of the LIVE Session\nAttend this interactive session and learn: \n\nWhy Omni Automation was created and what purpose it serves.\nHow to download and install existing OmniFocus plug-ins on your Mac\, iPhone\, and iPad.\nAbout some particularly useful plug-ins that you can start using right away. We’ll include examples of plug-ins that add ease and efficiency to your day-to-day OmniFocus workflows and others that are useful when you’re organizing and maintaining your OmniFocus setup.\nHow to sync plug-ins between your devices using iCloud.\nHow to assign keyboard shortcuts to plug-ins on Mac and iPad for added speed and convenience.\nHow to make simple customizations to existing plug-ins.\nAnd more…\n\nAn Interactive Experience\nDuring the LIVE session\, you’ll have the opportunity to ask questions and share insights using the chatbox and audio/video conferencing. \nYou’re welcome to join the live session 15 minutes before the start time to familiarize yourself with the online meeting technology we’re using and for an informal chat with other participants. The live session will remain active for 15 minutes after the completion time for additional questions and sharing.
URL:https://learnomnifocus.com/live/2020-08-18-automating-omnifocus-with-omni-automation-fundamentals/
END:VEVENT
END:VCALENDAR